DSET      ^MAC_CSEmask.bin
TITLE     Roads et al 2002 CSE (RHP?) Basin Mask on MAC Grid
OPTIONS   little_endian
UNDEF     0.00
XDEF      288 LINEAR          0.0     1.25
YDEF      144 LINEAR      -89.375     1.25
ZDEF        1 LINEAR          1.0      1.0
TDEF        1 LINEAR      oct2002      1mo
VARS        1
csemask     0   0  Integer values for each of 9 GEWEX CSEs
ENDVARS

* based on land fractions, no glacier
