DSET /nobackup/hwang1/geos5/out/AMIP//c_g01.h.jan1871-jan2014
UNDEF -999
TITLE UN_NAMES
xdef 288 linear -180 1.25
ydef 181 linear -90 1
ZDEF 37 levels 1000 975 950 925 900 875 850 825 800 775 750 725 700 650 600 550 500 450 400 350 300 250 200 150 100 70 50 40 30 20 10 7 5 4 3 2 1
TDEF 1830 LINEAR jan1871 1mo
VARS 1
p1 37 99 p1
ENDVARS
