dset /store2/mikeb/Grads_Data/MERRA/CDO_Ext/RX5DAY/MERRA_RX5DAY_%y4_%e.nc
title MERRA Highest five-day precipitation amount per time period
options template
undef 1e+15
dtype netcdf
xdef 540 linear -180 0.66666666667
ydef 361 linear -90 0.5
zdef 1 linear 0 1
edef 6 names DJF MAM JJA SON HUR ANN
tdef 35 linear 00Z15JAN1979 1yr
vars 2
highest_five_day_precipitation_amount_per_time_period=>rx5dtot 0 t,y,x Highest precipitation amount for five day interval (including the calendar day as the last day). The time period should be def
number_of_5day_heavy_precipitation_periods_per_time_period=>n5d50mm 0 t,y,x Number of 5day periods in given time period with precipitation amount exceeding 50 mm / 5 days. The time period should be defin
endvars
